BEGIN:VCALENDAR
VERSION:2.0
CALSCALE:GREGORIAN
PRODID:-//Diputació de Barcelona//DibaCMS//EN
BEGIN:VEVENT
UID:4771
DTSTAMP:20260422T055142
DTSTART:20120210T000000
DTEND:20130210T000000
SUMMARY:El segon Mercat d'Intercanvi de la Llagosta se celebrarà diumenge
LOCATION:
METHOD:PUBLISH
X-WR-CALNAME:llagosta@llagosta.cat
X-WR-TIMEZONE:Europe/Madrid
DESCRIPTION:L'Assemblea Popular de la Llagosta organitzarà diumenge el segon Mercat d'Intercanvi de la Llagosta. L'activitat es farà a partir de les onze del matí al passeig de l'avinguda de l'Onze de setembre.
URI:https://www.llagosta.cat/actualitat/noticies/el-segon-mercat-dintercanvi-de-la-llagosta-se-celebrara-diumenge.html
CLASS:PUBLIC
END:VEVENT
END:VCALENDAR
