BEGIN:VCALENDAR
VERSION:2.0
CALSCALE:GREGORIAN
PRODID:-//Diputació de Barcelona//DibaCMS//EN
BEGIN:VEVENT
UID:4770
DTSTAMP:20260422T145932
DTSTART:20120210T000000
DTEND:20130210T000000
SUMMARY:Demà al matí, xerrada sobre Sensibilitat Química Múltiple al Centre Cultural
LOCATION:
METHOD:PUBLISH
X-WR-CALNAME:llagosta@llagosta.cat
X-WR-TIMEZONE:Europe/Madrid
DESCRIPTION:El Centre Cultural acollirà demà al matí una xerrada sobre Sensibilitat Química Múltiple. La conferència sobre aquesta malaltia començarà a les onze del matí.
El doctor Joaquín Fernández Solà serà l'encarregat de parlar sobre els símptomes d'aquesta malaltia, les seves causes i les seves conseqüències. 
URI:https://www.llagosta.cat/actualitat/noticies/dema-al-mati-xerrada-sobre-sensibilitat-quimica-multiple-al-centre-cultural.html
CLASS:PUBLIC
END:VEVENT
END:VCALENDAR
