BEGIN:VCALENDAR
VERSION:2.0
CALSCALE:GREGORIAN
PRODID:-//Diputació de Barcelona//DibaCMS//EN
BEGIN:VEVENT
UID:4769
DTSTAMP:20260422T134600
DTSTART:20120210T000000
DTEND:20130210T000000
SUMMARY:El Vallag jugarà a casa contra el Sant Just després de derrotar les Franqueses (31-24)
LOCATION:
METHOD:PUBLISH
X-WR-CALNAME:llagosta@llagosta.cat
X-WR-TIMEZONE:Europe/Madrid
DESCRIPTION:El sènior de l'Handbol Club Vallag rebrà aquest cap de setmana la visita del Sant Just. Els llagostencs continuen amb la bona ratxa de resultats després de guanyar la jornada passada les Franqueses per 31 a 24.
URI:https://www.llagosta.cat/actualitat/noticies/el-vallag-jugara-a-casa-contra-el-sant-just-despres-de-derrotar-les-franqueses-31-24.html
CLASS:PUBLIC
END:VEVENT
END:VCALENDAR
