BEGIN:VCALENDAR
VERSION:2.0
CALSCALE:GREGORIAN
PRODID:-//Diputació de Barcelona//DibaCMS//EN
BEGIN:VEVENT
UID:4768
DTSTAMP:20260422T060251
DTSTART:20120210T000000
DTEND:20130210T000000
SUMMARY:El conjunt amateur del Club Esportiu La Llagosta es desplaçarà a les Franqueses
LOCATION:
METHOD:PUBLISH
X-WR-CALNAME:llagosta@llagosta.cat
X-WR-TIMEZONE:Europe/Madrid
DESCRIPTION:El primer equip del Club Esportiu La Llagosta jugarà aquesta jornada al camp de les Franqueses. Els llagostencs es mantenen com a cuers i vénen de perdre per 1 a 6 contra el Santa Eulàlia de Ronçana. Per la seva part, les Franqueses és cinquè amb 36 punts després de guanyar per 1 a 2 al camp de la Penya Blanc-i-Blava de la Roca.
URI:https://www.llagosta.cat/actualitat/noticies/el-conjunt-amateur-del-club-esportiu-la-llagosta-es-desplacara-a-les-franqueses.html
CLASS:PUBLIC
END:VEVENT
END:VCALENDAR
