BEGIN:VCALENDAR
VERSION:2.0
CALSCALE:GREGORIAN
PRODID:-//Diputació de Barcelona//DibaCMS//EN
BEGIN:VEVENT
UID:4766
DTSTAMP:20260422T081321
DTSTART:20120209T000000
DTEND:20130209T000000
SUMMARY:Les Jornades de portes obertes a les escoles de la Llagosta començaran demà
LOCATION:
METHOD:PUBLISH
X-WR-CALNAME:llagosta@llagosta.cat
X-WR-TIMEZONE:Europe/Madrid
DESCRIPTION:Demà, començaran les Jornades de portes obertes prèvies a les preinscripcions escolars del curs 2012-2013. Tots els centres educatius d'ensenyament infantil, primari i secundària i les escoles bressol de la nostra localitat ensenyaran les seves instal·lacions i els seus projectes educatius a les persones interessades.
URI:https://www.llagosta.cat/actualitat/noticies/les-jornades-de-portes-obertes-a-les-escoles-de-la-llagosta-comencaran-dema.html
CLASS:PUBLIC
END:VEVENT
END:VCALENDAR
