BEGIN:VCALENDAR
VERSION:2.0
CALSCALE:GREGORIAN
PRODID:-//Diputació de Barcelona//DibaCMS//EN
BEGIN:VEVENT
UID:4765
DTSTAMP:20260421T111142
DTSTART:20120209T000000
DTEND:20130209T000000
SUMMARY:El PSC, satisfet amb l'arxiu de les diligències del cas de l'ARE de les Planes 2
LOCATION:
METHOD:PUBLISH
X-WR-CALNAME:llagosta@llagosta.cat
X-WR-TIMEZONE:Europe/Madrid
DESCRIPTION:El Partit dels Socialistes de la Llagosta assegura que l'arxiu de les diligències obertes per la Fiscalia del Tribunal Superior de Justícia de Catalunya sobre la tramitació de l'ARE de les Planes 2 evidencia que hi ha hagut connivència i mala fe per part dels grups municipals que van iniciar el procés.
URI:https://www.llagosta.cat/actualitat/noticies/el-psc-satisfet-amb-larxiu-de-les-diligencies-del-cas-de-lare-de-les-planes-2.html
CLASS:PUBLIC
END:VEVENT
END:VCALENDAR
