BEGIN:VCALENDAR
VERSION:2.0
CALSCALE:GREGORIAN
PRODID:-//Diputació de Barcelona//DibaCMS//EN
BEGIN:VEVENT
UID:4764
DTSTAMP:20260421T123051
DTSTART:20120209T000000
DTEND:20130202T000000
SUMMARY:El sènior masculí A de l'EBC es desplaçarà a Martorelles el proper cap de setmana
LOCATION:
METHOD:PUBLISH
X-WR-CALNAME:llagosta@llagosta.cat
X-WR-TIMEZONE:Europe/Madrid
DESCRIPTION:El sènior masculí A de l'Esportiu Bàsquet Club de la Llagosta jugarà dissabte a la pista del Martorelles després que el seu partit contra el Coll del cap de setmana passat fos ajornat. El conjunt llagostenc és el cuer del grup 5 de la Tercera Catalana amb només dues victòries, mentre que el Martorelles és el tercer classificat amb onze partits guanyats.
URI:https://www.llagosta.cat/actualitat/noticies/el-senior-masculi-a-de-lebc-es-desplacara-a-martorelles-el-proper-cap-de-setmana.html
CLASS:PUBLIC
END:VEVENT
END:VCALENDAR
