BEGIN:VCALENDAR
VERSION:2.0
CALSCALE:GREGORIAN
PRODID:-//Diputació de Barcelona//DibaCMS//EN
BEGIN:VEVENT
UID:4763
DTSTAMP:20260421T122512
DTSTART:20120209T000000
DTEND:20130209T000000
SUMMARY:Els gegants de la Llagosta aniran diumenge a la Trobada de Vilanova del Vallès
LOCATION:
METHOD:PUBLISH
X-WR-CALNAME:llagosta@llagosta.cat
X-WR-TIMEZONE:Europe/Madrid
DESCRIPTION:La Colla Gegantera de la Llagosta participarà diumenge en la Trobada de Gegants de Vilanova del Vallès. La intenció dels responsables de l'entitat és desplaçar-s'hi amb els tres gegants, el Josepet, la Torradeta i la Blanqueta, i el capgròs Llago.
URI:https://www.llagosta.cat/actualitat/noticies/els-gegants-de-la-llagosta-aniran-diumenge-a-la-trobada-de-vilanova-del-valles.html
CLASS:PUBLIC
END:VEVENT
END:VCALENDAR
