BEGIN:VCALENDAR
VERSION:2.0
CALSCALE:GREGORIAN
PRODID:-//Diputació de Barcelona//DibaCMS//EN
BEGIN:VEVENT
UID:4762
DTSTAMP:20260422T001845
DTSTART:20120208T000000
DTEND:20130208T000000
SUMMARY:La Fiscalia arxiva la denuncia del cas de l'ARE de les Planes tot i que reconeix il·legalitats
LOCATION:
METHOD:PUBLISH
X-WR-CALNAME:llagosta@llagosta.cat
X-WR-TIMEZONE:Europe/Madrid
DESCRIPTION:La Fiscalia del Tribunal Superior de Justícia de Catalunya ha decretat l'arxiu de les diligències per la denúncia presentada pels aleshores grups municipals de l'oposició per unes presumptes irregularitats de l'anterior equip de govern de l'Ajuntament de la Llagosta en el procés de tramitació de l'ARE de les Planes 2. Segons un comunicat que han fet públic els denunciants, els grups municipals d'ICV-EUiA, CiU, PP i CPLL, la Fiscalia assegura que s'hi van produir il·legalitats, però no les considera un delicte penal. 
URI:https://www.llagosta.cat/actualitat/noticies/la-fiscalia-arxiva-la-denuncia-del-cas-de-lare-de-les-planes-tot-i-que-reconeix-illegalitats.html
CLASS:PUBLIC
END:VEVENT
END:VCALENDAR
