BEGIN:VCALENDAR
VERSION:2.0
CALSCALE:GREGORIAN
PRODID:-//Diputació de Barcelona//DibaCMS//EN
BEGIN:VEVENT
UID:4761
DTSTAMP:20260422T123834
DTSTART:20120208T000000
DTEND:20130208T000000
SUMMARY:Convocat el 19è Concurs de Fotografia Dia Internacional de la Dona
LOCATION:
METHOD:PUBLISH
X-WR-CALNAME:llagosta@llagosta.cat
X-WR-TIMEZONE:Europe/Madrid
DESCRIPTION:S'ha convocat la dinovena edició del Concurs de Fotografia Dia Internacional de la Dona, organitzat pel Foto-Club la Llagosta, amb la col·laboració de l'Ajuntament de la nostra localitat. 
URI:https://www.llagosta.cat/actualitat/noticies/convocat-el-19e-concurs-de-fotografia-dia-internacional-de-la-dona.html
CLASS:PUBLIC
END:VEVENT
END:VCALENDAR
