BEGIN:VCALENDAR
VERSION:2.0
CALSCALE:GREGORIAN
PRODID:-//Diputació de Barcelona//DibaCMS//EN
BEGIN:VEVENT
UID:4760
DTSTAMP:20260423T015532
DTSTART:20120208T000000
DTEND:20130208T000000
SUMMARY:Ja és efectiu el canvi en el sentit de la circulació al carrer de Cadaqués
LOCATION:
METHOD:PUBLISH
X-WR-CALNAME:llagosta@llagosta.cat
X-WR-TIMEZONE:Europe/Madrid
DESCRIPTION:El carrer de Cadaqués ja és novament de doble sentit de circulació entre el carrer de Vic i el passeig de Joan Miró. Aquest canvi ve provocat per les modificacions del servei d'autobús urbà de Santa Perpètua.
URI:https://www.llagosta.cat/actualitat/noticies/ja-es-efectiu-el-canvi-en-el-sentit-de-la-circulacio-al-carrer-de-cadaques.html
CLASS:PUBLIC
END:VEVENT
END:VCALENDAR
