BEGIN:VCALENDAR
VERSION:2.0
CALSCALE:GREGORIAN
PRODID:-//Diputació de Barcelona//DibaCMS//EN
BEGIN:VEVENT
UID:4759
DTSTAMP:20260423T020013
DTSTART:20120208T000000
DTEND:20130208T000000
SUMMARY:El primer equip de la Concòrdia acaba la primera volta golejant les Corts B (6-0)
LOCATION:
METHOD:PUBLISH
X-WR-CALNAME:llagosta@llagosta.cat
X-WR-TIMEZONE:Europe/Madrid
DESCRIPTION:El primer equip del Club Deportivo La Concòrdia va guanyar el cap de setmana passat per un clar 6 a 0 les Corts B. Les de la nostra localitat van demostrar perquè són líders amb una golejada contra el tercer classificat. 
URI:https://www.llagosta.cat/actualitat/noticies/el-primer-equip-de-la-concordia-acaba-la-primera-volta-golejant-les-corts-b-6-0.html
CLASS:PUBLIC
END:VEVENT
END:VCALENDAR
