BEGIN:VCALENDAR
VERSION:2.0
CALSCALE:GREGORIAN
PRODID:-//Diputació de Barcelona//DibaCMS//EN
BEGIN:VEVENT
UID:4758
DTSTAMP:20260422T002144
DTSTART:20120208T000000
DTEND:20130208T000000
SUMMARY:El FS Unión Llagostense guanya el Sant Andreu de la Barca per un ajustat 3 a 2
LOCATION:
METHOD:PUBLISH
X-WR-CALNAME:llagosta@llagosta.cat
X-WR-TIMEZONE:Europe/Madrid
DESCRIPTION:El Fútbol Sala Unión Llagostense va trencar el cap de setmana passat una ratxa de quatre derrotes seguides en guanyar el darrer classificat, el Sant Andreu de la Barca, per 3 a 2. El partit va ser més complicat del previst.
URI:https://www.llagosta.cat/actualitat/noticies/el-fs-union-llagostense-guanya-el-sant-andreu-de-la-barca-per-un-ajustat-3-a-2.html
CLASS:PUBLIC
END:VEVENT
END:VCALENDAR
