BEGIN:VCALENDAR
VERSION:2.0
CALSCALE:GREGORIAN
PRODID:-//Diputació de Barcelona//DibaCMS//EN
BEGIN:VEVENT
UID:4757
DTSTAMP:20260422T162109
DTSTART:20120207T000000
DTEND:20130207T000000
SUMMARY:Aprovat el pressupost del Consorci per a la defensa de la conca del riu Besòs
LOCATION:
METHOD:PUBLISH
X-WR-CALNAME:llagosta@llagosta.cat
X-WR-TIMEZONE:Europe/Madrid
DESCRIPTION:El Consorci per a la defensa de la conca del riu Besòs ha aprovat el seu pressupost per a l'any 2012. Aquest organisme veurà reduït en més d'un 30% els seus comptes. Tot i això, es garanteix el funcionament de les depuradores de la conca, com la de la Llagosta.
URI:https://www.llagosta.cat/actualitat/noticies/aprovat-el-pressupost-del-consorci-per-a-la-defensa-de-la-conca-del-riu-besos.html
CLASS:PUBLIC
END:VEVENT
END:VCALENDAR
