BEGIN:VCALENDAR
VERSION:2.0
CALSCALE:GREGORIAN
PRODID:-//Diputació de Barcelona//DibaCMS//EN
BEGIN:VEVENT
UID:4756
DTSTAMP:20260422T154323
DTSTART:20120207T000000
DTEND:20130207T000000
SUMMARY:El Viejas Glorias acaba la primera volta amb una victòria clara al camp del Castic (0-3)
LOCATION:
METHOD:PUBLISH
X-WR-CALNAME:llagosta@llagosta.cat
X-WR-TIMEZONE:Europe/Madrid
DESCRIPTION:El Club Deportivo Viejas Glorias va guanyar el cap de setmana passat per 0 a 3 al camp del Castic. Els llagostencs van fer un bon partit i van ser clarament superiors als seus rivals, que pràcticament no van tenir ocasions de gol.
URI:https://www.llagosta.cat/actualitat/noticies/el-viejas-glorias-acaba-la-primera-volta-amb-una-victoria-clara-al-camp-del-castic-0-3.html
CLASS:PUBLIC
END:VEVENT
END:VCALENDAR
