BEGIN:VCALENDAR
VERSION:2.0
CALSCALE:GREGORIAN
PRODID:-//Diputació de Barcelona//DibaCMS//EN
BEGIN:VEVENT
UID:4755
DTSTAMP:20260422T125214
DTSTART:20120206T000000
DTEND:20130226T000000
SUMMARY:L'assemblea d'ICV de la Llagosta escull Jesús Ríos com a nou president local
LOCATION:
METHOD:PUBLISH
X-WR-CALNAME:llagosta@llagosta.cat
X-WR-TIMEZONE:Europe/Madrid
DESCRIPTION:Jesús Ríos ha estat escollit nou president d'Iniciativa per Catalunya Verds a la Llagosta. L'elecció es va realitzar divendres, en el transcurs de l'assemblea celebrada per la formació.
URI:https://www.llagosta.cat/actualitat/noticies/lassemblea-dicv-de-la-llagosta-escull-jesus-rios-com-a-nou-president-local.html
CLASS:PUBLIC
END:VEVENT
END:VCALENDAR
