BEGIN:VCALENDAR
VERSION:2.0
CALSCALE:GREGORIAN
PRODID:-//Diputació de Barcelona//DibaCMS//EN
BEGIN:VEVENT
UID:4754
DTSTAMP:20260422T015306
DTSTART:20120206T000000
DTEND:20130226T000000
SUMMARY:Bona assistència de públic al darrer espectacle del grup de teatre TELL de la Llagosta
LOCATION:
METHOD:PUBLISH
X-WR-CALNAME:llagosta@llagosta.cat
X-WR-TIMEZONE:Europe/Madrid
DESCRIPTION:El Centre Cultural de la Llagosta va registrar una bona entrada de públic durant les quatre representacions de RENT, no hay más que hoy, realitzades pel grup de teatre TELL, de la Llagosta durant el cap de setmana.
URI:https://www.llagosta.cat/actualitat/noticies/bona-assistencia-de-public-al-darrer-espectacle-del-grup-de-teatre-tell-de-la-llagosta.html
CLASS:PUBLIC
END:VEVENT
END:VCALENDAR
