BEGIN:VCALENDAR
VERSION:2.0
CALSCALE:GREGORIAN
PRODID:-//Diputació de Barcelona//DibaCMS//EN
BEGIN:VEVENT
UID:4752
DTSTAMP:20260423T235854
DTSTART:20120206T000000
DTEND:20130226T000000
SUMMARY:El conjunt amateur del CE La Llagosta cau golejat a casa pel Santa Eulàlia de Ronçana
LOCATION:
METHOD:PUBLISH
X-WR-CALNAME:llagosta@llagosta.cat
X-WR-TIMEZONE:Europe/Madrid
DESCRIPTION:El primer equip del Club Esportiu La Llagosta va encaixar ahir una nova derrota. El conjunt que ara entrena Víctor Ortega va perdre per 1 a 6 contra el Santa Eulàlia de Ronçana.
URI:https://www.llagosta.cat/actualitat/noticies/el-conjunt-amateur-del-ce-la-llagosta-cau-golejat-a-casa-pel-santa-eulalia-de-roncana.html
CLASS:PUBLIC
END:VEVENT
END:VCALENDAR
