BEGIN:VCALENDAR
VERSION:2.0
CALSCALE:GREGORIAN
PRODID:-//Diputació de Barcelona//DibaCMS//EN
BEGIN:VEVENT
UID:4751
DTSTAMP:20260422T075853
DTSTART:20120203T000000
DTEND:20130203T000000
SUMMARY:El Centre Cultural acull aquest cap de setmana l'obra RENT, del grup de teatre TELL
LOCATION:
METHOD:PUBLISH
X-WR-CALNAME:llagosta@llagosta.cat
X-WR-TIMEZONE:Europe/Madrid
DESCRIPTION:El grup de teatre TELL presenta aquest cap de setmana el seu nou espectacle RENT, no hay más que hoy. Les entrades encara es poden adquirir a l'establiment Àrea Distribucions, a l'avinguda del Primer de maig.
URI:https://www.llagosta.cat/actualitat/noticies/el-centre-cultural-acull-aquest-cap-de-setmana-lobra-rent-del-grup-de-teatre-tell.html
CLASS:PUBLIC
END:VEVENT
END:VCALENDAR
