BEGIN:VCALENDAR
VERSION:2.0
CALSCALE:GREGORIAN
PRODID:-//Diputació de Barcelona//DibaCMS//EN
BEGIN:VEVENT
UID:4749
DTSTAMP:20260421T111403
DTSTART:20120203T000000
DTEND:20130203T000000
SUMMARY:El sènior del Vallag jugarà contra les Franqueses després de sumar una nova victòria
LOCATION:
METHOD:PUBLISH
X-WR-CALNAME:llagosta@llagosta.cat
X-WR-TIMEZONE:Europe/Madrid
DESCRIPTION:L'Handbol Club Vallag jugarà aquest cap de setmana contra les Franqueses. Els de la nostra localitat, que continuen segons a la taula, s'enfrontaran als penúltims classificats.
URI:https://www.llagosta.cat/actualitat/noticies/el-senior-del-vallag-jugara-contra-les-franqueses-despres-de-sumar-una-nova-victoria.html
CLASS:PUBLIC
END:VEVENT
END:VCALENDAR
