BEGIN:VCALENDAR
VERSION:2.0
CALSCALE:GREGORIAN
PRODID:-//Diputació de Barcelona//DibaCMS//EN
BEGIN:VEVENT
UID:4747
DTSTAMP:20260421T104804
DTSTART:20120203T000000
DTEND:20130203T000000
SUMMARY:Les escoles de la Llagosta obren avui després de suspendre les classes ahir per la tarda
LOCATION:
METHOD:PUBLISH
X-WR-CALNAME:llagosta@llagosta.cat
X-WR-TIMEZONE:Europe/Madrid
DESCRIPTION:Els centres educatius de la Llagosta han tornat avui a l'activitat després que ahir a la tarda se suspenguessin les classes per la nevada. La millora de les condicions meteorològiques ha fet que no sigui necessari mantenir la suspensió de l'activitat escolar.
URI:https://www.llagosta.cat/actualitat/noticies/les-escoles-de-la-llagosta-obren-avui-despres-de-suspendre-les-classes-ahir-per-la-tarda.html
CLASS:PUBLIC
END:VEVENT
END:VCALENDAR
