BEGIN:VCALENDAR
VERSION:2.0
CALSCALE:GREGORIAN
PRODID:-//Diputació de Barcelona//DibaCMS//EN
BEGIN:VEVENT
UID:4746
DTSTAMP:20260421T120045
DTSTART:20120202T000000
DTEND:20130202T000000
SUMMARY:Aquesta tarda no hi haurà classes als centres educatius de la Llagosta per la nevada
LOCATION:
METHOD:PUBLISH
X-WR-CALNAME:llagosta@llagosta.cat
X-WR-TIMEZONE:Europe/Madrid
DESCRIPTION:Els centres educatius de la Llagosta han suspès les classes d'aquesta tarda a causa de la nevada que cau des de primera hora del matí a la nostra localitat. Probablement, demà, tampoc no hi haurà activitat escolar, si es compleixen les previsions meteorològiques per a les properes hores.
L'Ajuntament ha activat el pla d'emergències per nevades i continua llençant sal en algunes zones on es preveu que la neu pugui quallar, ja que poden ser punts conflictius per a la circulació de vehicles. La neu ha arribat aquest matí a la Llagosta. Tal com s'esperava, l'onada de fred ha portat neu a cotes molt baixes, com és el cas de la nostra localitat. 
URI:https://www.llagosta.cat/actualitat/noticies/aquesta-tarda-no-hi-haura-classes-als-centres-educatius-de-la-llagosta-per-la-nevada.html
CLASS:PUBLIC
END:VEVENT
END:VCALENDAR
