BEGIN:VCALENDAR
VERSION:2.0
CALSCALE:GREGORIAN
PRODID:-//Diputació de Barcelona//DibaCMS//EN
BEGIN:VEVENT
UID:4743
DTSTAMP:20260421T190610
DTSTART:20120202T000000
DTEND:20130202T000000
SUMMARY:Canvis al carrer de Cadaqués, a partir de mitjans d'aquest mes de febrer
LOCATION:
METHOD:PUBLISH
X-WR-CALNAME:llagosta@llagosta.cat
X-WR-TIMEZONE:Europe/Madrid
DESCRIPTION:A mitjans d'aquest mes de febrer, l'Ajuntament de Santa Perpètua de Mogoda aplicarà unes modificacions al servei d'autobús urbà que afectaran al recorregut d'aquest mitjà de transport públic al seu pas pel nucli urbà de la Llagosta. La principal modificació, a més del traçat, serà l'habilitació del carrer de Cadaqués, entre el carrer de Vic i el passeig de Joan Miró, amb doble sentit de circulació.
URI:https://www.llagosta.cat/actualitat/noticies/canvis-al-carrer-de-cadaques-a-partir-de-mitjans-daquest-mes-de-febrer.html
CLASS:PUBLIC
END:VEVENT
END:VCALENDAR
