BEGIN:VCALENDAR
VERSION:2.0
CALSCALE:GREGORIAN
PRODID:-//Diputació de Barcelona//DibaCMS//EN
BEGIN:VEVENT
UID:4742
DTSTAMP:20260421T185452
DTSTART:20120202T000000
DTEND:20130202T000000
SUMMARY:El Punt de Trobada Jove acollirà demà la celebració d'un torneig de tennis de taula
LOCATION:
METHOD:PUBLISH
X-WR-CALNAME:llagosta@llagosta.cat
X-WR-TIMEZONE:Europe/Madrid
DESCRIPTION:La Regidoria de Joventut organitzarà demà un torneig de tennis de taula al Punt de Trobada Jove, al Centre Cultural i Juvenil Can Pelegrí. L'activitat començarà a les sis de la tarda. 
URI:https://www.llagosta.cat/actualitat/noticies/el-punt-de-trobada-jove-acollira-dema-la-celebracio-dun-torneig-de-tennis-de-taula.html
CLASS:PUBLIC
END:VEVENT
END:VCALENDAR
