BEGIN:VCALENDAR
VERSION:2.0
CALSCALE:GREGORIAN
PRODID:-//Diputació de Barcelona//DibaCMS//EN
BEGIN:VEVENT
UID:4739
DTSTAMP:20260423T130617
DTSTART:20120201T000000
DTEND:20130201T000000
SUMMARY:Reunió d'alguns dels fundadors de l'Associació de Veïns de la Llagosta
LOCATION:
METHOD:PUBLISH
X-WR-CALNAME:llagosta@llagosta.cat
X-WR-TIMEZONE:Europe/Madrid
DESCRIPTION:Membres fundadors de l'Associació de Veïns de la Llagosta han mantingut una trobada per recopilar material d'aquesta entitat i recuperar part de la memòria històrica del nostre municipi. L'Ajuntament de la nostra localitat va participar en aquesta reunió per oferir la seva col·laboració.
URI:https://www.llagosta.cat/actualitat/noticies/reunio-dalguns-dels-fundadors-de-lassociacio-de-veins-de-la-llagosta.html
CLASS:PUBLIC
END:VEVENT
END:VCALENDAR
