BEGIN:VCALENDAR
VERSION:2.0
CALSCALE:GREGORIAN
PRODID:-//Diputació de Barcelona//DibaCMS//EN
BEGIN:VEVENT
UID:4737
DTSTAMP:20260421T172701
DTSTART:20120201T000000
DTEND:20130201T000000
SUMMARY:Recomanacions davant la forta baixada de les temperatures durant els propers dies
LOCATION:
METHOD:PUBLISH
X-WR-CALNAME:llagosta@llagosta.cat
X-WR-TIMEZONE:Europe/Madrid
DESCRIPTION:La Direcció General de Protecció Civil de la Generalitat i l'Ajuntament de la Llagosta han donat a conèixer una sèrie de recomanacions davant l'onada de fred que es preveu que ens afecti des de demà i durant tot el cap de setmana. 
URI:https://www.llagosta.cat/actualitat/noticies/recomanacions-davant-la-forta-baixada-de-les-temperatures-durant-els-propers-dies.html
CLASS:PUBLIC
END:VEVENT
END:VCALENDAR
