BEGIN:VCALENDAR
VERSION:2.0
CALSCALE:GREGORIAN
PRODID:-//Diputació de Barcelona//DibaCMS//EN
BEGIN:VEVENT
UID:4736
DTSTAMP:20260421T121937
DTSTART:20120201T000000
DTEND:20130201T000000
SUMMARY:El FS Unión Llagostense jugarà el proper cap de setmana a casa contra el cuer
LOCATION:
METHOD:PUBLISH
X-WR-CALNAME:llagosta@llagosta.cat
X-WR-TIMEZONE:Europe/Madrid
DESCRIPTION:El Fútbol Sala Unión Llagostense rebrà la propera jornada la visita del Sant Andreu de la Barca després de descansar el cap de setmana passat perquè el seu partit a la pista del Sant Vicenç va ser ajornat. Els llagostencs, que han perdut els quatre darrers partits que han disputat, ocupen la sisena posició amb 22 punts. 
URI:https://www.llagosta.cat/actualitat/noticies/el-fs-union-llagostense-jugara-el-proper-cap-de-setmana-a-casa-contra-el-cuer.html
CLASS:PUBLIC
END:VEVENT
END:VCALENDAR
