BEGIN:VCALENDAR
VERSION:2.0
CALSCALE:GREGORIAN
PRODID:-//Diputació de Barcelona//DibaCMS//EN
BEGIN:VEVENT
UID:4735
DTSTAMP:20260421T134157
DTSTART:20120131T000000
DTEND:20130131T000000
SUMMARY:L'alcalde demana per carta a la Generalitat que elimini el peatge de la C-33
LOCATION:
METHOD:PUBLISH
X-WR-CALNAME:llagosta@llagosta.cat
X-WR-TIMEZONE:Europe/Madrid
DESCRIPTION:L'alcalde de la Llagosta, Alberto López, ha demanat al conseller de Territori i Sostenibilitat de la Generalitat, Lluís Recoder, que suprimeixi el peatge de la Llagosta, a l'autopista C-33, per tractar-se d'una barrera que frena el creixement econòmic i social del Vallès Oriental.
URI:https://www.llagosta.cat/actualitat/noticies/lalcalde-demana-per-carta-a-la-generalitat-que-elimini-el-peatge-de-la-c-33.html
CLASS:PUBLIC
END:VEVENT
END:VCALENDAR
