BEGIN:VCALENDAR
VERSION:2.0
CALSCALE:GREGORIAN
PRODID:-//Diputació de Barcelona//DibaCMS//EN
BEGIN:VEVENT
UID:4734
DTSTAMP:20260421T220928
DTSTART:20120131T000000
DTEND:20130131T000000
SUMMARY:L'Ajuntament confecciona la programació d'activitats culturals per a la gent gran
LOCATION:
METHOD:PUBLISH
X-WR-CALNAME:llagosta@llagosta.cat
X-WR-TIMEZONE:Europe/Madrid
DESCRIPTION:L'Ajuntament de la Llagosta ja té enllestida la programació d'activitats culturals per a persones grans d'aquest primer semestre de l'any. Als habituals tallers i sortides, s'afegeix enguany el projecte Voluntaris per la Llengua.
URI:https://www.llagosta.cat/actualitat/noticies/lajuntament-confecciona-la-programacio-dactivitats-culturals-per-a-la-gent-gran.html
CLASS:PUBLIC
END:VEVENT
END:VCALENDAR
