BEGIN:VCALENDAR
VERSION:2.0
CALSCALE:GREGORIAN
PRODID:-//Diputació de Barcelona//DibaCMS//EN
BEGIN:VEVENT
UID:4730
DTSTAMP:20260422T002414
DTSTART:20120130T000000
DTEND:20130130T000000
SUMMARY:Obert el període d'inscripcions per al concurs de disfresses que organitza l'Ajuntament
LOCATION:
METHOD:PUBLISH
X-WR-CALNAME:llagosta@llagosta.cat
X-WR-TIMEZONE:Europe/Madrid
DESCRIPTION:L'Ajuntament de la Llagosta ha obert avui el període d'inscripcions per participar en el concurs de disfresses que organitzarà el dia 18 de febrer durant la festa de Carnestoltes. Els interessats s'han d'adreçar a l'Oficina d'Atenció a la Ciutadania, situada a l'edifici municipal de l'antic Joan Maragall, fins al 14 de febrer, de dilluns a dijous, de quatre a vuit de la tarda. 
URI:https://www.llagosta.cat/actualitat/noticies/obert-el-periode-dinscripcions-per-al-concurs-de-disfresses-que-organitza-lajuntament.html
CLASS:PUBLIC
END:VEVENT
END:VCALENDAR
