BEGIN:VCALENDAR
VERSION:2.0
CALSCALE:GREGORIAN
PRODID:-//Diputació de Barcelona//DibaCMS//EN
BEGIN:VEVENT
UID:4729
DTSTAMP:20260419T164913
DTSTART:20120130T000000
DTEND:20130130T000000
SUMMARY:Tan sols deu persones van donar sang en la primera captació de l'any a la Llagosta
LOCATION:
METHOD:PUBLISH
X-WR-CALNAME:llagosta@llagosta.cat
X-WR-TIMEZONE:Europe/Madrid
DESCRIPTION:Només deu persones es van apropar la setmana passada a donar sang durant la primera visita de l'any del Banc de Sang a la Llagosta. Una persona no va poder donar-ne i dues ho van fer per primera vegada.
URI:https://www.llagosta.cat/actualitat/noticies/tan-sols-deu-persones-van-donar-sang-en-la-primera-captacio-de-lany-a-la-llagosta.html
CLASS:PUBLIC
END:VEVENT
END:VCALENDAR
