BEGIN:VCALENDAR
VERSION:2.0
CALSCALE:GREGORIAN
PRODID:-//Diputació de Barcelona//DibaCMS//EN
BEGIN:VEVENT
UID:4723
DTSTAMP:20260421T135754
DTSTART:20120127T000000
DTEND:20130127T000000
SUMMARY:Manuel Iglesias decideix plegar i dirigirà el darrer partit de la Llagosta al camp de la Torreta
LOCATION:
METHOD:PUBLISH
X-WR-CALNAME:llagosta@llagosta.cat
X-WR-TIMEZONE:Europe/Madrid
DESCRIPTION:Manuel Iglesias ha decidit deixar de ser l'entrenador del conjunt amateur del Club Esportiu La Llagosta. Iglesias dirigirà l'equip per darrera vegada en el partit que jugarà aquest cap de setmana al camp de la Torreta. Després, es farà càrrec del conjunt llagostenc el segon entrenador, Víctor Ortega.
URI:https://www.llagosta.cat/actualitat/noticies/manuel-iglesias-decideix-plegar-i-dirigira-el-darrer-partit-de-la-llagosta-al-camp-de-la-torreta.html
CLASS:PUBLIC
END:VEVENT
END:VCALENDAR
