BEGIN:VCALENDAR
VERSION:2.0
CALSCALE:GREGORIAN
PRODID:-//Diputació de Barcelona//DibaCMS//EN
BEGIN:VEVENT
UID:4718
DTSTAMP:20260422T020206
DTSTART:20120126T000000
DTEND:20130126T000000
SUMMARY:La Colla Gegantera de la Llagosta va estar present a la Trobada de Gualba
LOCATION:
METHOD:PUBLISH
X-WR-CALNAME:llagosta@llagosta.cat
X-WR-TIMEZONE:Europe/Madrid
DESCRIPTION:Els gegants de la Llagosta, el Josepet, la Torradeta i la Blanqueta, van participar el cap de setmana passat en la Trobada de Gualba. Els responsables de la Colla Gegantera de la nostra localitat han fet un balanç molt positiu de la primera sortida d'aquest any.
URI:https://www.llagosta.cat/actualitat/noticies/la-colla-gegantera-de-la-llagosta-va-estar-present-a-la-trobada-de-gualba.html
CLASS:PUBLIC
END:VEVENT
END:VCALENDAR
