BEGIN:VCALENDAR
VERSION:2.0
CALSCALE:GREGORIAN
PRODID:-//Diputació de Barcelona//DibaCMS//EN
BEGIN:VEVENT
UID:4714
DTSTAMP:20260421T224220
DTSTART:20120125T000000
DTEND:20130125T000000
SUMMARY:El FS Unión Llagostense encaixa la quarta derrota seguida a la pista del líder
LOCATION:
METHOD:PUBLISH
X-WR-CALNAME:llagosta@llagosta.cat
X-WR-TIMEZONE:Europe/Madrid
DESCRIPTION:El Fútbol Sala Unión Llagostense va perdre la jornada passada per 5 a 3 a la pista del líder, el Figueres. El conjunt que entrena José Manuel Poyato es va trobar durant la primera part amb un marcador en contra de 2 a 0, però, abans del descans, va empatar.
URI:https://www.llagosta.cat/actualitat/noticies/el-fs-union-llagostense-encaixa-la-quarta-derrota-seguida-a-la-pista-del-lider.html
CLASS:PUBLIC
END:VEVENT
END:VCALENDAR
