BEGIN:VCALENDAR
VERSION:2.0
CALSCALE:GREGORIAN
PRODID:-//Diputació de Barcelona//DibaCMS//EN
BEGIN:VEVENT
UID:4703
DTSTAMP:20260421T122050
DTSTART:20120123T000000
DTEND:20130123T000000
SUMMARY:El conjunt amateur del CE La Llagosta no es presenta al camp del Lliçà de Vall
LOCATION:
METHOD:PUBLISH
X-WR-CALNAME:llagosta@llagosta.cat
X-WR-TIMEZONE:Europe/Madrid
DESCRIPTION:El primer equip del Club Esportiu La Llagosta no es va presentar el cap de setmana al camp del Lliçà de Vall amb suficients jugadors per disputar el partit. L'entrenador, Manuel Iglesias, creu que la Federació donarà la victòria al seu rival per no presentació del seu equip.
URI:https://www.llagosta.cat/actualitat/noticies/el-conjunt-amateur-del-ce-la-llagosta-no-es-presenta-al-camp-del-llica-de-vall.html
CLASS:PUBLIC
END:VEVENT
END:VCALENDAR
