BEGIN:VCALENDAR
VERSION:2.0
CALSCALE:GREGORIAN
PRODID:-//Diputació de Barcelona//DibaCMS//EN
BEGIN:VEVENT
UID:4697
DTSTAMP:20260422T033425
DTSTART:20120119T000000
DTEND:20130119T000000
SUMMARY:Una exposició sobre la sensibilitat química múltiple, al Centre Cultural a partir de demà
LOCATION:
METHOD:PUBLISH
X-WR-CALNAME:llagosta@llagosta.cat
X-WR-TIMEZONE:Europe/Madrid
DESCRIPTION:A partir de demà, es podrà visitar al Centre Cultural l'exposició Sensibilitat Química Múltiple. La mostra és un recull de fotografies realitzades per persones que pateixen aquesta malaltia. 
URI:https://www.llagosta.cat/actualitat/noticies/una-exposicio-sobre-la-sensibilitat-quimica-multiple-al-centre-cultural-a-partir-de-dema.html
CLASS:PUBLIC
END:VEVENT
END:VCALENDAR
