BEGIN:VCALENDAR
VERSION:2.0
CALSCALE:GREGORIAN
PRODID:-//Diputació de Barcelona//DibaCMS//EN
BEGIN:VEVENT
UID:4694
DTSTAMP:20260421T122526
DTSTART:20120119T000000
DTEND:20130119T000000
SUMMARY:El Consistori no incrementarà les quotes de la guarderia Cucutras aprovades aquest curs
LOCATION:
METHOD:PUBLISH
X-WR-CALNAME:llagosta@llagosta.cat
X-WR-TIMEZONE:Europe/Madrid
DESCRIPTION:L'Ajuntament de la Llagosta mantindrà aquest curs la quota de 115 euros mensuals que es paga a l'Escola Bressol Municipal Cucutras, encara que la Generalitat decideixi finalment reduir la seva aportació. 
URI:https://www.llagosta.cat/actualitat/noticies/el-consistori-no-incrementara-les-quotes-de-la-guarderia-cucutras-aprovades-aquest-curs.html
CLASS:PUBLIC
END:VEVENT
END:VCALENDAR
