BEGIN:VCALENDAR
VERSION:2.0
CALSCALE:GREGORIAN
PRODID:-//Diputació de Barcelona//DibaCMS//EN
BEGIN:VEVENT
UID:4693
DTSTAMP:20260421T140656
DTSTART:20120118T000000
DTEND:20130118T000000
SUMMARY:Cicle de xerrades sobre Internet segura per als aulmnes de 6è de Primària
LOCATION:
METHOD:PUBLISH
X-WR-CALNAME:llagosta@llagosta.cat
X-WR-TIMEZONE:Europe/Madrid
DESCRIPTION:L'Ajuntament de la Llagosta i els Mossos d'Esquadra estan portant a terme un cicle de xerrades informatives sobre l'ús segur d'Internet. Aquesta activitat està dirigida a alumnes de sisè curs de Primària de la Llagosta. 
URI:https://www.llagosta.cat/actualitat/noticies/cicle-de-xerrades-sobre-internet-segura-per-als-aulmnes-de-6e-de-primaria.html
CLASS:PUBLIC
END:VEVENT
END:VCALENDAR
