BEGIN:VCALENDAR
VERSION:2.0
CALSCALE:GREGORIAN
PRODID:-//Diputació de Barcelona//DibaCMS//EN
BEGIN:VEVENT
UID:4692
DTSTAMP:20260422T020106
DTSTART:20120118T000000
DTEND:20130118T000000
SUMMARY:L'Ajuntament se suma al programa Enfeina't, adreçat a joves de 16 a 30 anys
LOCATION:
METHOD:PUBLISH
X-WR-CALNAME:llagosta@llagosta.cat
X-WR-TIMEZONE:Europe/Madrid
DESCRIPTION:L'Ajuntament de la Llagosta posarà en marxa la propera setmana el programa Enfeina't, un projecte adreçat a joves de 16 a 30 anys que pretén proporcionar-los eines per cercar feina i introduir-los en les noves tecnologies.
URI:https://www.llagosta.cat/actualitat/noticies/lajuntament-se-suma-al-programa-enfeinat-adrecat-a-joves-de-16-a-30-anys.html
CLASS:PUBLIC
END:VEVENT
END:VCALENDAR
