BEGIN:VCALENDAR
VERSION:2.0
CALSCALE:GREGORIAN
PRODID:-//Diputació de Barcelona//DibaCMS//EN
BEGIN:VEVENT
UID:4690
DTSTAMP:20260422T015752
DTSTART:20120118T000000
DTEND:20130118T000000
SUMMARY:El FS Unión Llagostense perd a casa contra el Sansur per un contundent 2 a 7
LOCATION:
METHOD:PUBLISH
X-WR-CALNAME:llagosta@llagosta.cat
X-WR-TIMEZONE:Europe/Madrid
DESCRIPTION:El Fútbol Sala Unión Llagostense va encaixar el cap de setmana passat la tercera derrota seguida. Els de la Llagosta van caure a casa contra el Sansur per 2 a 7.
URI:https://www.llagosta.cat/actualitat/noticies/el-fs-union-llagostense-perd-a-casa-contra-el-sansur-per-un-contundent-2-a-7.html
CLASS:PUBLIC
END:VEVENT
END:VCALENDAR
