BEGIN:VCALENDAR
VERSION:2.0
CALSCALE:GREGORIAN
PRODID:-//Diputació de Barcelona//DibaCMS//EN
BEGIN:VEVENT
UID:4689
DTSTAMP:20260422T024922
DTSTART:20120117T000000
DTEND:20130117T000000
SUMMARY:Jesús Ríos, únic candidat a la presidència d'Iniciativa per Catalunya Verds a la Llagosta
LOCATION:
METHOD:PUBLISH
X-WR-CALNAME:llagosta@llagosta.cat
X-WR-TIMEZONE:Europe/Madrid
DESCRIPTION:Jesús Ríos ha estat l'única persona que ha presentat candidatura per optar a la presidència d'Iniciativa per Catalunya Verds a la Llagosta. El procés va finalitzar ahir.
Ara, i fins al 30 de gener, s'obre un nou procés en el qual els militants i simpatitzants d'aquesta formació podran donar el seu suport a Ríos. 
URI:https://www.llagosta.cat/actualitat/noticies/jesus-rios-unic-candidat-a-la-presidencia-diniciativa-per-catalunya-verds-a-la-llagosta.html
CLASS:PUBLIC
END:VEVENT
END:VCALENDAR
