BEGIN:VCALENDAR
VERSION:2.0
CALSCALE:GREGORIAN
PRODID:-//Diputació de Barcelona//DibaCMS//EN
BEGIN:VEVENT
UID:4688
DTSTAMP:20260422T041822
DTSTART:20120117T000000
DTEND:20130117T000000
SUMMARY:El Viejas Glorias goleja l'Atlètic Poblenou i acaba amb una ratxa de quatre partits sense guanyar
LOCATION:
METHOD:PUBLISH
X-WR-CALNAME:llagosta@llagosta.cat
X-WR-TIMEZONE:Europe/Madrid
DESCRIPTION:El Club Deportivo Viejas Glorias es va retrobar el cap de setmana passat amb la victòria després de guanyar per 5 a 0 l'Atlètic Poblenou. Els llagostencs van estar molt encertats tant en atac com en defensa.
URI:https://www.llagosta.cat/actualitat/noticies/el-viejas-glorias-goleja-latletic-poblenou-i-acaba-amb-una-ratxa-de-quatre-partits-sense-guanyar.html
CLASS:PUBLIC
END:VEVENT
END:VCALENDAR
