BEGIN:VCALENDAR
VERSION:2.0
CALSCALE:GREGORIAN
PRODID:-//Diputació de Barcelona//DibaCMS//EN
BEGIN:VEVENT
UID:4687
DTSTAMP:20260422T112440
DTSTART:20120117T000000
DTEND:20130117T000000
SUMMARY:El Consistori visita 12 comerços alimentaris en una campanya d'assessorament i millora
LOCATION:
METHOD:PUBLISH
X-WR-CALNAME:llagosta@llagosta.cat
X-WR-TIMEZONE:Europe/Madrid
DESCRIPTION:L'Ajuntament de la Llagosta va portar a terme a finals de l'any passat una campanya d'assessorament i millora a dotze establiments alimentaris de la nostra localitat. Una empresa contractada pel Consistori va visitar els comerços i el balanç és força positiu. 
URI:https://www.llagosta.cat/actualitat/noticies/el-consistori-visita-12-comercos-alimentaris-en-una-campanya-dassessorament-i-millora.html
CLASS:PUBLIC
END:VEVENT
END:VCALENDAR
