BEGIN:VCALENDAR
VERSION:2.0
CALSCALE:GREGORIAN
PRODID:-//Diputació de Barcelona//DibaCMS//EN
BEGIN:VEVENT
UID:4686
DTSTAMP:20260421T222530
DTSTART:20120117T000000
DTEND:20130117T000000
SUMMARY:Declarat desert el premi del concurs per escollir el logotip per a la Cursa Els 10 de la Llagosta
LOCATION:
METHOD:PUBLISH
X-WR-CALNAME:llagosta@llagosta.cat
X-WR-TIMEZONE:Europe/Madrid
DESCRIPTION:La junta del Club Esportiu Fondistes de la Llagosta ha declarat desert el premi del concurs que havia convocat per escollir un logotip per a la Cursa popular Els 10 de la Llagosta, coincidint amb el 25è aniversari de la prova. Els responsables de l'entitat han explicat que les dues obres que s'havien presentat al certamen no complien tots els requisits establerts a les bases.
URI:https://www.llagosta.cat/actualitat/noticies/declarat-desert-el-premi-del-concurs-per-escollir-el-logotip-per-a-la-cursa-els-10-de-la-llagosta.html
CLASS:PUBLIC
END:VEVENT
END:VCALENDAR
