BEGIN:VCALENDAR
VERSION:2.0
CALSCALE:GREGORIAN
PRODID:-//Diputació de Barcelona//DibaCMS//EN
BEGIN:VEVENT
UID:4685
DTSTAMP:20260422T182519
DTSTART:20120116T000000
DTEND:20130116T000000
SUMMARY:El Consistori fa obres de manteniment a la pista d'skate del Parc Popular
LOCATION:
METHOD:PUBLISH
X-WR-CALNAME:llagosta@llagosta.cat
X-WR-TIMEZONE:Europe/Madrid
DESCRIPTION:L'Ajuntament de la Llagosta està realitzant obres de manteniment de la pista d'skate del Parc Popular. Aquesta actuació permetrà reparar els desperfectes d'aquesta instal·lació, inaugurada fa poc més de tres anys. 
URI:https://www.llagosta.cat/actualitat/noticies/el-consistori-fa-obres-de-manteniment-a-la-pista-dskate-del-parc-popular.html
CLASS:PUBLIC
END:VEVENT
END:VCALENDAR
