BEGIN:VCALENDAR
VERSION:2.0
CALSCALE:GREGORIAN
PRODID:-//Diputació de Barcelona//DibaCMS//EN
BEGIN:VEVENT
UID:4684
DTSTAMP:20260423T014421
DTSTART:20120116T000000
DTEND:20130116T000000
SUMMARY:Pablo Martín és reelegit president de la Colla Gegantera de la Llagosta 
LOCATION:
METHOD:PUBLISH
X-WR-CALNAME:llagosta@llagosta.cat
X-WR-TIMEZONE:Europe/Madrid
DESCRIPTION:La Colla Gegantera de la Llagosta va escollir ahir la seva junta directiva. Pablo Martín continuarà al capdavant de l'entitat. L'assemblea dels geganters també va aprovar el calendari per a aquest any 2012 i el seu pressupost, entre altres temes.
URI:https://www.llagosta.cat/actualitat/noticies/pablo-martin-es-reelegit-president-de-la-colla-gegantera-de-la-llagosta-.html
CLASS:PUBLIC
END:VEVENT
END:VCALENDAR
