BEGIN:VCALENDAR
VERSION:2.0
CALSCALE:GREGORIAN
PRODID:-//Diputació de Barcelona//DibaCMS//EN
BEGIN:VEVENT
UID:4683
DTSTAMP:20260422T022407
DTSTART:20120116T000000
DTEND:20130115T000000
SUMMARY:El conjunt amateur del CE La Llagosta suma la quinzena derrota de la temporada
LOCATION:
METHOD:PUBLISH
X-WR-CALNAME:llagosta@llagosta.cat
X-WR-TIMEZONE:Europe/Madrid
DESCRIPTION:El primer equip del Club Esportiu La Llagosta va encaixar ahir la quinzena derrota de la temporada en perdre a casa contra el Vic-Riuprimer B per 0 a 5. Els visitants van ser molt superiors als llagostencs, que van afrontar el partit amb moltes baixes i amb quatre jugadors del juvenil.
URI:https://www.llagosta.cat/actualitat/noticies/el-conjunt-amateur-del-ce-la-llagosta-suma-la-quinzena-derrota-de-la-temporada.html
CLASS:PUBLIC
END:VEVENT
END:VCALENDAR
