BEGIN:VCALENDAR
VERSION:2.0
CALSCALE:GREGORIAN
PRODID:-//Diputació de Barcelona//DibaCMS//EN
BEGIN:VEVENT
UID:4682
DTSTAMP:20260422T151237
DTSTART:20120113T000000
DTEND:20130112T000000
SUMMARY:El Foto-Club La Llagosta protagonitza una exposició i comença un curs de Photoshop
LOCATION:
METHOD:PUBLISH
X-WR-CALNAME:llagosta@llagosta.cat
X-WR-TIMEZONE:Europe/Madrid
DESCRIPTION:El Foto-Club La Llagosta manté oberta durant el mes de gener una exposició amb una trentena d'obres de socis de l'entitat. La mostra es pot visitar al vestíbul del Centre Cultural.
URI:https://www.llagosta.cat/actualitat/noticies/el-foto-club-la-llagosta-protagonitza-una-exposicio-i-comenca-un-curs-de-photoshop.html
CLASS:PUBLIC
END:VEVENT
END:VCALENDAR
