BEGIN:VCALENDAR
VERSION:2.0
CALSCALE:GREGORIAN
PRODID:-//Diputació de Barcelona//DibaCMS//EN
BEGIN:VEVENT
UID:4681
DTSTAMP:20260421T210535
DTSTART:20120113T000000
DTEND:20130113T000000
SUMMARY:El sènior del Vallag, a mantenir la bona ratxa a la pista del segon classificat, el Rubí
LOCATION:
METHOD:PUBLISH
X-WR-CALNAME:llagosta@llagosta.cat
X-WR-TIMEZONE:Europe/Madrid
DESCRIPTION:El sènior de l'Handbol Club Vallag jugarà aquest cap de setmana contra el Rubí. Els de la nostra localitat tindran un desplaçament complicat a una pista on sempre han tingut moltes dificultats.
URI:https://www.llagosta.cat/actualitat/noticies/el-senior-del-vallag-a-mantenir-la-bona-ratxa-a-la-pista-del-segon-classificat-el-rubi.html
CLASS:PUBLIC
END:VEVENT
END:VCALENDAR
