BEGIN:VCALENDAR
VERSION:2.0
CALSCALE:GREGORIAN
PRODID:-//Diputació de Barcelona//DibaCMS//EN
BEGIN:VEVENT
UID:4680
DTSTAMP:20260422T060231
DTSTART:20120113T000000
DTEND:20130113T000000
SUMMARY:El Consistori adjudicarà aviat la millora de les cambres frigorífiques del Mercat Municipal
LOCATION:
METHOD:PUBLISH
X-WR-CALNAME:llagosta@llagosta.cat
X-WR-TIMEZONE:Europe/Madrid
DESCRIPTION:L'Ajuntament de la Llagosta adjudicarà en breu les obres d'adequació i millora de les cambres frigorífiques del Mercat Municipal. Cinc empreses opten a realitzar aquests treballs, pressupostats en uns 89.300 euros.
URI:https://www.llagosta.cat/actualitat/noticies/el-consistori-adjudicara-aviat-la-millora-de-les-cambres-frigorifiques-del-mercat-municipal.html
CLASS:PUBLIC
END:VEVENT
END:VCALENDAR
